BEGIN:VCALENDAR
VERSION:2.0
PRODID:-//【腸と脳を鍛える】ILCHI Brain Yoga 横浜スタジオ - ECPv6.15.20//NONSGML v1.0//EN
CALSCALE:GREGORIAN
METHOD:PUBLISH
X-WR-CALNAME:【腸と脳を鍛える】ILCHI Brain Yoga 横浜スタジオ
X-ORIGINAL-URL:https://ilchibrainyoga-yokohama.com
X-WR-CALDESC:【腸と脳を鍛える】ILCHI Brain Yoga 横浜スタジオ のイベント
REFRESH-INTERVAL;VALUE=DURATION:PT1H
X-Robots-Tag:noindex
X-PUBLISHED-TTL:PT1H
BEGIN:VTIMEZONE
TZID:Asia/Tokyo
BEGIN:STANDARD
TZOFFSETFROM:+0900
TZOFFSETTO:+0900
TZNAME:JST
DTSTART:20250101T000000
END:STANDARD
END:VTIMEZONE
BEGIN:VEVENT
DTSTART;TZID=Asia/Tokyo:20260313T183000
DTEND;TZID=Asia/Tokyo:20260313T200000
DTSTAMP:20260421T045009
CREATED:20260305T023539Z
LAST-MODIFIED:20260305T023539Z
UID:8632-1773426600-1773432000@ilchibrainyoga-yokohama.com
SUMMARY:誰でも簡単！腸から変わる！腸のセルフケア講座
DESCRIPTION:話題の「腸脳相関」。腸は体と心の状態を映す鏡で、脳と密接なつながりを持っています。\n腸が強く柔軟になると体も考え方も軽やかで柔軟になります。\n今回は誰でもできて、今日から取り入れられるセルフケアで変化をつくる方法をお伝えします。\n腸が気になる方、体と心を整えたい方、どなたでもお気軽にご参加お待ちしております♪ \n【日程】\n3月13日(金)18:30～20:00\n3月18日(水)14:30～16:00 \n【持ち物】\n動きやすい服装、タオル、お飲み物 \n【参加費】\n900円(税込) \n【会場】\n港北公会堂 和室\n（東急東横線「大倉山駅」から徒歩7分） \n【講師】\n渡辺温子（わたなべあつこ）\n腸が気になる方、体と心を整えたい方など、どなたでもお気軽にご参加ください！ \n【ご予約・お問合せ】\n☏045-314-0544 \n皆さまのご来場を心よりお待ちしております✨ \n\nLINEからのお申し込みはこちら⇒https://lin.ee/2T5DC8x \n\n\n  \n\n\n\n\n\n \n体験ご希望日時\n		(必須)　※ご注意：月曜日は定休日です\n		\n \n—以下から選択してください—10111213141516171819時　—以下から選択してください—001020304050分 ～ のクラス\n \nお名前\n		 (必須)\n		\n \n\n \nメールアドレス\n		 (必須)\n		\n \n\n \nお電話番号（携帯可）\n		 (必須)\n		\n \n\n \nこちらのスタジオを何でお知りになりましたか？\n		 (必須)\n		\n \nチラシ看板書籍雑誌紹介Yahoo検索Google検索口コミその他Webサイト\n \nご関心があること、習得したいこと（複数可）\n \n自然治癒力アップ集中力アップダイエット体質改善ストレス緩和丹田強化呼吸法瞑想法リラックス運動不足解消姿勢がよくなりたいその他（備考欄にご記入ください）\n \n備考欄\n \n\n \n\n\n \n\n Δ \n\n\n\n株式会社DAHN WORLD JAPAN（ダンワールドジャパン）
URL:https://ilchibrainyoga-yokohama.com/event/yokohama-105/
LOCATION:港北公会堂 和室\, 神奈川県横浜市港北区大豆戸町２６−１
CATEGORIES:セミナー・講座,体質改善,呼吸瞑想,腸ヨガ
ATTACH;FMTTYPE=image/png:https://ilchibrainyoga-yokohama.com/wp-content/uploads/2026/03/baf8cf050e7defd754bd7b5f4f7be26a-scaled.png
END:VEVENT
BEGIN:VEVENT
DTSTART;TZID=Asia/Tokyo:20260318T143000
DTEND;TZID=Asia/Tokyo:20260318T160000
DTSTAMP:20260421T045009
CREATED:20260305T023642Z
LAST-MODIFIED:20260305T023642Z
UID:8636-1773844200-1773849600@ilchibrainyoga-yokohama.com
SUMMARY:誰でも簡単！腸から変わる！腸のセルフケア講座
DESCRIPTION:話題の「腸脳相関」。腸は体と心の状態を映す鏡で、脳と密接なつながりを持っています。\n腸が強く柔軟になると体も考え方も軽やかで柔軟になります。\n今回は誰でもできて、今日から取り入れられるセルフケアで変化をつくる方法をお伝えします。\n腸が気になる方、体と心を整えたい方、どなたでもお気軽にご参加お待ちしております♪ \n【日程】\n3月18日(水)14:30～16:00 \n【持ち物】\n動きやすい服装、タオル、お飲み物 \n【参加費】\n900円(税込) \n【会場】\n港北公会堂 和室\n（東急東横線「大倉山駅」から徒歩7分） \n【講師】\n渡辺温子（わたなべあつこ）\n腸が気になる方、体と心を整えたい方など、どなたでもお気軽にご参加ください！ \n【ご予約・お問合せ】\n☏045-314-0544 \n皆さまのご来場を心よりお待ちしております✨ \n\nLINEからのお申し込みはこちら⇒https://lin.ee/2T5DC8x \n\n\n  \n\n\n\n\n\n \n体験ご希望日時\n		(必須)　※ご注意：月曜日は定休日です\n		\n \n—以下から選択してください—10111213141516171819時　—以下から選択してください—001020304050分 ～ のクラス\n \nお名前\n		 (必須)\n		\n \n\n \nメールアドレス\n		 (必須)\n		\n \n\n \nお電話番号（携帯可）\n		 (必須)\n		\n \n\n \nこちらのスタジオを何でお知りになりましたか？\n		 (必須)\n		\n \nチラシ看板書籍雑誌紹介Yahoo検索Google検索口コミその他Webサイト\n \nご関心があること、習得したいこと（複数可）\n \n自然治癒力アップ集中力アップダイエット体質改善ストレス緩和丹田強化呼吸法瞑想法リラックス運動不足解消姿勢がよくなりたいその他（備考欄にご記入ください）\n \n備考欄\n \n\n \n\n\n \n\n Δ \n\n\n\n株式会社DAHN WORLD JAPAN（ダンワールドジャパン）
URL:https://ilchibrainyoga-yokohama.com/event/yokohama-106/
LOCATION:港北公会堂 和室\, 神奈川県横浜市港北区大豆戸町２６−１
CATEGORIES:セミナー・講座,体質改善,呼吸瞑想,腸ヨガ
ATTACH;FMTTYPE=image/png:https://ilchibrainyoga-yokohama.com/wp-content/uploads/2026/03/baf8cf050e7defd754bd7b5f4f7be26a-scaled.png
END:VEVENT
END:VCALENDAR